BEGIN:VCALENDAR
VERSION:2.0
METHOD:PUBLISH
BEGIN:VEVENT
DTSTART:20220624T150000Z
DTEND:20220626T200000Z
LOCATION:Upland, CA 91784
TRANSP: OPAQUE
SEQUENCE:0
UID:
DTSTAMP:20260425T050247Z
SUMMARY:Upland Home Estate Sale by Next Step
DESCRIPTION:Upland Home Estate Sale by Next Step Next Step Estate Sales 
UID:1777114967
STREET-ADDRESS:See website
POSTAL-CODE:91784
LOCALITY:Upland
REGION:ABBREV=CA
COUNTRY:ABBREV=US;ABBREV=USA:United States
URL;TYPE=Event Listing:https://estatesales.org/estate-sales/ca/upland/91784/upland-home-estate-sale-by-2060607
PRIORITY:1
CLASS:PUBLIC
SEQUENCE:0
STATUS:CONFIRMED
TRANSP:OPAQUE
END:VEVENT
END:VCALENDAR
