BEGIN:VCALENDAR
VERSION:2.0
METHOD:PUBLISH
BEGIN:VEVENT
DTSTART:20170624T140000Z
DTEND:20170625T035900Z
LOCATION:Saint Louis, MO 63109
TRANSP: OPAQUE
SEQUENCE:0
UID:
DTSTAMP:20260419T201428Z
SUMMARY:Asian Furnishing and Antiques Estate Auction
DESCRIPTION:Asian Furnishing and Antiques Estate Auction Father Time Auctions and Real Estate 
UID:1776651268
STREET-ADDRESS:See website
POSTAL-CODE:63109
LOCALITY:Saint Louis
REGION:ABBREV=MO
COUNTRY:ABBREV=US;ABBREV=USA:United States
URL;TYPE=Event Listing:https://estatesales.org/estate-sales/mo/saint-louis/63109/asian-furnishing-and-antiques-estate-1251299
PRIORITY:1
CLASS:PUBLIC
SEQUENCE:0
STATUS:CONFIRMED
TRANSP:OPAQUE
END:VEVENT
END:VCALENDAR
