BEGIN:VCALENDAR
VERSION:2.0
METHOD:PUBLISH
BEGIN:VEVENT
DTSTART:20160624T150000Z
DTEND:20160625T190000Z
LOCATION:Mequon, WI 53092
TRANSP: OPAQUE
SEQUENCE:0
UID:
DTSTAMP:20260420T030216Z
SUMMARY:Mequon Estate Sale
DESCRIPTION:Mequon Estate Sale All in the Family Estate Sales 
UID:1776675736
STREET-ADDRESS:See website
POSTAL-CODE:53092
LOCALITY:Mequon
REGION:ABBREV=WI
COUNTRY:ABBREV=US;ABBREV=USA:United States
URL;TYPE=Event Listing:https://estatesales.org/estate-sales/wi/mequon/53092/mequon-estate-sale-876333
PRIORITY:1
CLASS:PUBLIC
SEQUENCE:0
STATUS:CONFIRMED
TRANSP:OPAQUE
END:VEVENT
END:VCALENDAR
