BEGIN:VCALENDAR
VERSION:2.0
METHOD:PUBLISH
BEGIN:VEVENT
DTSTART:20250623T160000Z
DTEND:20250623T190000Z
LOCATION:Gilroy, CA 95020
TRANSP: OPAQUE
SEQUENCE:0
UID:
DTSTAMP:20260419T214217Z
SUMMARY:MONDAY BARN SALE 9am to Noon 4310 Monterey Rd, Gilroy, CA 95020
DESCRIPTION:MONDAY BARN SALE 9am to Noon 4310 Monterey Rd, Gilroy, CA 95020 Estate Auctioneer 
UID:1776656537
STREET-ADDRESS:See website
POSTAL-CODE:95020
LOCALITY:Gilroy
REGION:ABBREV=CA
COUNTRY:ABBREV=US;ABBREV=USA:United States
URL;TYPE=Event Listing:https://estatesales.org/estate-sales/ca/gilroy/95020/monday-barn-sale-9am-to-2386606
PRIORITY:1
CLASS:PUBLIC
SEQUENCE:0
STATUS:CONFIRMED
TRANSP:OPAQUE
END:VEVENT
END:VCALENDAR
