BEGIN:VCALENDAR
VERSION:2.0
METHOD:PUBLISH
BEGIN:VEVENT
DTSTART:20170623T140000Z
DTEND:20170624T200000Z
LOCATION:Nokomis, FL 34275
TRANSP: OPAQUE
SEQUENCE:0
UID:
DTSTAMP:20260425T162222Z
SUMMARY:WELCOME TO THE BEAUTIFUL CASEY KEY 2 DAY SALE
DESCRIPTION:WELCOME TO THE BEAUTIFUL CASEY KEY 2 DAY SALE A PRESTIGE ESTATE SERVICES National Company 
UID:1777155742
STREET-ADDRESS:See website
POSTAL-CODE:34275
LOCALITY:Nokomis
REGION:ABBREV=FL
COUNTRY:ABBREV=US;ABBREV=USA:United States
URL;TYPE=Event Listing:https://estatesales.org/estate-sales/fl/nokomis/34275/welcome-to-the-beautiful-casey-1259933
PRIORITY:1
CLASS:PUBLIC
SEQUENCE:0
STATUS:CONFIRMED
TRANSP:OPAQUE
END:VEVENT
END:VCALENDAR
