BEGIN:VCALENDAR
VERSION:2.0
METHOD:PUBLISH
BEGIN:VEVENT
DTSTART:20170623T160000Z
DTEND:20170625T220000Z
LOCATION:Placerville, CA 95667
TRANSP: OPAQUE
SEQUENCE:0
UID:
DTSTAMP:20260421T115605Z
SUMMARY:New  Life Presents Eclectic Placerville  Estate Sale
DESCRIPTION:New  Life Presents Eclectic Placerville  Estate Sale Calder Estate Sales and Liquidators 
UID:1776794165
STREET-ADDRESS:See website
POSTAL-CODE:95667
LOCALITY:Placerville
REGION:ABBREV=CA
COUNTRY:ABBREV=US;ABBREV=USA:United States
URL;TYPE=Event Listing:https://estatesales.org/estate-sales/ca/placerville/95667/new-life-presents-eclectic-placerville-1260307
PRIORITY:1
CLASS:PUBLIC
SEQUENCE:0
STATUS:CONFIRMED
TRANSP:OPAQUE
END:VEVENT
END:VCALENDAR
