BEGIN:VCALENDAR
VERSION:2.0
METHOD:PUBLISH
BEGIN:VEVENT
DTSTART:20170623T150000Z
DTEND:20170624T210000Z
LOCATION:Issaquah, WA 98027
TRANSP: OPAQUE
SEQUENCE:0
UID:
DTSTAMP:20260421T124126Z
SUMMARY:Issaquah Estate Sale
DESCRIPTION:Issaquah Estate Sale Caring Transitions of Issaquah/Bellevue 
UID:1776796886
STREET-ADDRESS:See website
POSTAL-CODE:98027
LOCALITY:Issaquah
REGION:ABBREV=WA
COUNTRY:ABBREV=US;ABBREV=USA:United States
URL;TYPE=Event Listing:https://estatesales.org/estate-sales/wa/issaquah/98027/issaquah-estate-sale-1250723
PRIORITY:1
CLASS:PUBLIC
SEQUENCE:0
STATUS:CONFIRMED
TRANSP:OPAQUE
END:VEVENT
END:VCALENDAR
