BEGIN:VCALENDAR
VERSION:2.0
METHOD:PUBLISH
BEGIN:VEVENT
DTSTART:20230622T130000Z
DTEND:20230622T200000Z
LOCATION:Howell, MI 48843
TRANSP: OPAQUE
SEQUENCE:0
UID:
DTSTAMP:20260423T233328Z
SUMMARY:Stunning and Tasteful One-Day Sale on the Lake in Howell, Mi 
DESCRIPTION:Stunning and Tasteful One-Day Sale on the Lake in Howell, Mi  Caring Transitions of S.E. Michigan 
UID:1777008808
STREET-ADDRESS:See website
POSTAL-CODE:48843
LOCALITY:Howell
REGION:ABBREV=MI
COUNTRY:ABBREV=US;ABBREV=USA:United States
URL;TYPE=Event Listing:https://estatesales.org/estate-sales/mi/howell/48843/stunning-and-tasteful-oneday-sale-2197299
PRIORITY:1
CLASS:PUBLIC
SEQUENCE:0
STATUS:CONFIRMED
TRANSP:OPAQUE
END:VEVENT
END:VCALENDAR
