BEGIN:VCALENDAR
VERSION:2.0
METHOD:PUBLISH
BEGIN:VEVENT
DTSTART:20190622T153000Z
DTEND:20190623T200000Z
LOCATION:Aurora, CO 80010
TRANSP: OPAQUE
SEQUENCE:0
UID:
DTSTAMP:20260420T204618Z
SUMMARY:Havana Sale
DESCRIPTION:Havana Sale Adan’s Hidden Treasures Estate Sale Company 
UID:1776739578
STREET-ADDRESS:See website
POSTAL-CODE:80010
LOCALITY:Aurora
REGION:ABBREV=CO
COUNTRY:ABBREV=US;ABBREV=USA:United States
URL;TYPE=Event Listing:https://estatesales.org/estate-sales/co/aurora-/80010/havana-sale-1672369
PRIORITY:1
CLASS:PUBLIC
SEQUENCE:0
STATUS:CONFIRMED
TRANSP:OPAQUE
END:VEVENT
END:VCALENDAR
