BEGIN:VCALENDAR
VERSION:2.0
METHOD:PUBLISH
BEGIN:VEVENT
DTSTART:20180622T163000Z
DTEND:20180623T000000Z
LOCATION:Burbank, CA 91504
TRANSP: OPAQUE
SEQUENCE:0
UID:
DTSTAMP:20260420T041315Z
SUMMARY:PUBLIC AUCTION -WAREHOUSE PRODUCT FULFILLMENT /SHIPPING & RETAIL STORE 
DESCRIPTION:PUBLIC AUCTION -WAREHOUSE PRODUCT FULFILLMENT /SHIPPING & RETAIL STORE  asal 
UID:1776679995
STREET-ADDRESS:See website
POSTAL-CODE:91504
LOCALITY:Burbank
REGION:ABBREV=CA
COUNTRY:ABBREV=US;ABBREV=USA:United States
URL;TYPE=Event Listing:https://estatesales.org/estate-sales/ca/burbank/91504/public-auction-warehouse-product-fulfillment-1533137
PRIORITY:1
CLASS:PUBLIC
SEQUENCE:0
STATUS:CONFIRMED
TRANSP:OPAQUE
END:VEVENT
END:VCALENDAR
