BEGIN:VCALENDAR
VERSION:2.0
METHOD:PUBLISH
BEGIN:VEVENT
DTSTART:20180622T150000Z
DTEND:20180622T233000Z
LOCATION:Hesston, KS 67062
TRANSP: OPAQUE
SEQUENCE:0
UID:
DTSTAMP:20260419T070848Z
SUMMARY:PB67062 Sensational on Sunset Drive Estate Sale
DESCRIPTION:PB67062 Sensational on Sunset Drive Estate Sale Caring Transitions of Wichita 
UID:1776604128
STREET-ADDRESS:See website
POSTAL-CODE:67062
LOCALITY:Hesston
REGION:ABBREV=KS
COUNTRY:ABBREV=US;ABBREV=USA:United States
URL;TYPE=Event Listing:https://estatesales.org/estate-sales/ks/hesston/67062/pb67062-sensational-on-sunset-drive-1530769
PRIORITY:1
CLASS:PUBLIC
SEQUENCE:0
STATUS:CONFIRMED
TRANSP:OPAQUE
END:VEVENT
END:VCALENDAR
