BEGIN:VCALENDAR
VERSION:2.0
METHOD:PUBLISH
BEGIN:VEVENT
DTSTART:20250621T140000Z
DTEND:20250622T180000Z
LOCATION:Mullica Hill, NJ 08062
TRANSP: OPAQUE
SEQUENCE:0
UID:
DTSTAMP:20260425T162417Z
SUMMARY:B&B Estate Sales Is Hosting A Sale In Mullica Hill , NJ
DESCRIPTION:B&B Estate Sales Is Hosting A Sale In Mullica Hill , NJ B&B Estate Sales 
UID:1777155857
STREET-ADDRESS:See website
POSTAL-CODE:08062
LOCALITY:Mullica Hill
REGION:ABBREV=NJ
COUNTRY:ABBREV=US;ABBREV=USA:United States
URL;TYPE=Event Listing:https://estatesales.org/estate-sales/nj/mullica-hill/08062/bb-estate-sales-is-hosting-2364124
PRIORITY:1
CLASS:PUBLIC
SEQUENCE:0
STATUS:CONFIRMED
TRANSP:OPAQUE
END:VEVENT
END:VCALENDAR
