BEGIN:VCALENDAR
VERSION:2.0
METHOD:PUBLISH
BEGIN:VEVENT
DTSTART:20250621T150000Z
DTEND:20250622T210000Z
LOCATION:Kyle, TX 78640
TRANSP: OPAQUE
SEQUENCE:0
UID:
DTSTAMP:20260423T063554Z
SUMMARY:Charming Kyle Estate Sale
DESCRIPTION:Charming Kyle Estate Sale Blue Moon Estate Sale Company 
UID:1776947754
STREET-ADDRESS:See website
POSTAL-CODE:78640
LOCALITY:Kyle
REGION:ABBREV=TX
COUNTRY:ABBREV=US;ABBREV=USA:United States
URL;TYPE=Event Listing:https://estatesales.org/estate-sales/tx/kyle/78640/charming-kyle-estate-sale-2384276
PRIORITY:1
CLASS:PUBLIC
SEQUENCE:0
STATUS:CONFIRMED
TRANSP:OPAQUE
END:VEVENT
END:VCALENDAR
