BEGIN:VCALENDAR
VERSION:2.0
METHOD:PUBLISH
BEGIN:VEVENT
DTSTART:20250621T140000Z
DTEND:20250621T190000Z
LOCATION:League City, TX 77573
TRANSP: OPAQUE
SEQUENCE:0
UID:
DTSTAMP:20260425T100245Z
SUMMARY:League City Flash Sale! Saturday, 6/21 9AM-2PM!
DESCRIPTION:League City Flash Sale! Saturday, 6/21 9AM-2PM! Caring Transitions of Friendswood 
UID:1777132965
STREET-ADDRESS:See website
POSTAL-CODE:77573
LOCALITY:League City
REGION:ABBREV=TX
COUNTRY:ABBREV=US;ABBREV=USA:United States
URL;TYPE=Event Listing:https://estatesales.org/estate-sales/tx/league-city/77573/league-city-flash-sale-saturday-2385640
PRIORITY:1
CLASS:PUBLIC
SEQUENCE:0
STATUS:CONFIRMED
TRANSP:OPAQUE
END:VEVENT
END:VCALENDAR
