BEGIN:VCALENDAR
VERSION:2.0
METHOD:PUBLISH
BEGIN:VEVENT
DTSTART:20250621T150000Z
DTEND:20250621T200000Z
LOCATION:Phoenix, AZ 85018
TRANSP: OPAQUE
SEQUENCE:0
UID:
DTSTAMP:20260419T195047Z
SUMMARY:ONE DAY SALE - Sherwood Towne Estate Sale
DESCRIPTION:ONE DAY SALE - Sherwood Towne Estate Sale Arizona Finds 
UID:1776649847
STREET-ADDRESS:See website
POSTAL-CODE:85018
LOCALITY:Phoenix
REGION:ABBREV=AZ
COUNTRY:ABBREV=US;ABBREV=USA:United States
URL;TYPE=Event Listing:https://estatesales.org/estate-sales/az/phoenix/85018/one-day-sale-sherwood-towne-2384864
PRIORITY:1
CLASS:PUBLIC
SEQUENCE:0
STATUS:CONFIRMED
TRANSP:OPAQUE
END:VEVENT
END:VCALENDAR
