BEGIN:VCALENDAR
VERSION:2.0
METHOD:PUBLISH
BEGIN:VEVENT
DTSTART:20240621T130000Z
DTEND:20240623T200000Z
LOCATION:Blauvelt, NY 10913
TRANSP: OPAQUE
SEQUENCE:0
UID:
DTSTAMP:20260422T025842Z
SUMMARY:A Family Legacy of Art: Mid-Century Collection of Posters, Paintings & Prints
DESCRIPTION:A Family Legacy of Art: Mid-Century Collection of Posters, Paintings & Prints Hudson Estate Sales, LLC 
UID:1776848322
STREET-ADDRESS:See website
POSTAL-CODE:10913
LOCALITY:Blauvelt
REGION:ABBREV=NY
COUNTRY:ABBREV=US;ABBREV=USA:United States
URL;TYPE=Event Listing:https://estatesales.org/estate-sales/ny/blauvelt/10913/a-family-legacy-of-art-2321232
PRIORITY:1
CLASS:PUBLIC
SEQUENCE:0
STATUS:CONFIRMED
TRANSP:OPAQUE
END:VEVENT
END:VCALENDAR
