BEGIN:VCALENDAR
VERSION:2.0
METHOD:PUBLISH
BEGIN:VEVENT
DTSTART:20240621T130000Z
DTEND:20240622T190000Z
LOCATION:Newton, MA 02467
TRANSP: OPAQUE
SEQUENCE:0
UID:
DTSTAMP:20260419T092019Z
SUMMARY:OUTSTANDING NEWTON ESTATE SALE FRIDAY AND SATURDAY JUNE 21ST & 22ND
DESCRIPTION:OUTSTANDING NEWTON ESTATE SALE FRIDAY AND SATURDAY JUNE 21ST & 22ND Estate Sale Specialists, LLC 
UID:1776612019
STREET-ADDRESS:See website
POSTAL-CODE:02467
LOCALITY:Newton
REGION:ABBREV=MA
COUNTRY:ABBREV=US;ABBREV=USA:United States
URL;TYPE=Event Listing:https://estatesales.org/estate-sales/ma/newton/02467/outstanding-newton-estate-sale-friday-2320821
PRIORITY:1
CLASS:PUBLIC
SEQUENCE:0
STATUS:CONFIRMED
TRANSP:OPAQUE
END:VEVENT
END:VCALENDAR
