BEGIN:VCALENDAR
VERSION:2.0
METHOD:PUBLISH
BEGIN:VEVENT
DTSTART:20210621T180000Z
DTEND:20210624T000000Z
LOCATION:Carson City, NV 89706
TRANSP: OPAQUE
SEQUENCE:0
UID:
DTSTAMP:20260425T162222Z
SUMMARY:TLC Estate Services Presents
DESCRIPTION:TLC Estate Services Presents TLC Estate Services 
UID:1777155742
STREET-ADDRESS:See website
POSTAL-CODE:89706
LOCALITY:Carson City
REGION:ABBREV=NV
COUNTRY:ABBREV=US;ABBREV=USA:United States
URL;TYPE=Event Listing:https://estatesales.org/estate-sales/nv/carson-city/89706/tlc-estate-services-presents-1920169
PRIORITY:1
CLASS:PUBLIC
SEQUENCE:0
STATUS:CONFIRMED
TRANSP:OPAQUE
END:VEVENT
END:VCALENDAR
