BEGIN:VCALENDAR
VERSION:2.0
METHOD:PUBLISH
BEGIN:VEVENT
DTSTART:20190621T160000Z
DTEND:20190622T220000Z
LOCATION:Snohomish, WA 98290
TRANSP: OPAQUE
SEQUENCE:0
UID:
DTSTAMP:20260424T133516Z
SUMMARY:Snohomish Estate sale 
DESCRIPTION:Snohomish Estate sale  A&W Helping Hands Estate Sale services and full cleanouts 
UID:1777059316
STREET-ADDRESS:See website
POSTAL-CODE:98290
LOCALITY:Snohomish
REGION:ABBREV=WA
COUNTRY:ABBREV=US;ABBREV=USA:United States
URL;TYPE=Event Listing:https://estatesales.org/estate-sales/wa/snohomish/98290/snohomish-estate-sale-1674555
PRIORITY:1
CLASS:PUBLIC
SEQUENCE:0
STATUS:CONFIRMED
TRANSP:OPAQUE
END:VEVENT
END:VCALENDAR
