BEGIN:VCALENDAR
VERSION:2.0
METHOD:PUBLISH
BEGIN:VEVENT
DTSTART:20130621T130000Z
DTEND:20130622T170000Z
LOCATION:Plano, TX 75075
TRANSP: OPAQUE
SEQUENCE:0
UID:
DTSTAMP:20260425T122455Z
SUMMARY:BlueMoonEstates' COOL FUN IN THE TEXAS SUN #1
DESCRIPTION:BlueMoonEstates' COOL FUN IN THE TEXAS SUN #1 Blue Moon Estates - Estate Sales, Events &amp; Services 
UID:1777141495
STREET-ADDRESS:See website
POSTAL-CODE:75075
LOCALITY:Plano
REGION:ABBREV=TX
COUNTRY:ABBREV=US;ABBREV=USA:United States
URL;TYPE=Event Listing:https://estatesales.org/estate-sales/tx/plano/75075/bluemoonestates-cool-fun-in-the-285000
PRIORITY:1
CLASS:PUBLIC
SEQUENCE:0
STATUS:CONFIRMED
TRANSP:OPAQUE
END:VEVENT
END:VCALENDAR
