BEGIN:VCALENDAR
VERSION:2.0
METHOD:PUBLISH
BEGIN:VEVENT
DTSTART:20250620T160000Z
DTEND:20250622T210000Z
LOCATION:Oklahoma City, OK 73142
TRANSP: OPAQUE
SEQUENCE:0
UID:
DTSTAMP:20260424T042523Z
SUMMARY:GREAT MID-CENTURY MODERN SALE by ELLIS ESTATE LIQUIDATIONS
DESCRIPTION:GREAT MID-CENTURY MODERN SALE by ELLIS ESTATE LIQUIDATIONS Ellis Estate Liquidations, LLC 
UID:1777026323
STREET-ADDRESS:See website
POSTAL-CODE:73142
LOCALITY:Oklahoma City
REGION:ABBREV=OK
COUNTRY:ABBREV=US;ABBREV=USA:United States
URL;TYPE=Event Listing:https://estatesales.org/estate-sales/ok/oklahoma-city/73142/great-midcentury-modern-sale-by-2385442
PRIORITY:1
CLASS:PUBLIC
SEQUENCE:0
STATUS:CONFIRMED
TRANSP:OPAQUE
END:VEVENT
END:VCALENDAR
