BEGIN:VCALENDAR
VERSION:2.0
METHOD:PUBLISH
BEGIN:VEVENT
DTSTART:20250620T130000Z
DTEND:20250621T170000Z
LOCATION:Prospect, KY 40059
TRANSP: OPAQUE
SEQUENCE:0
UID:
DTSTAMP:20260419T113746Z
SUMMARY:Marilyn's White Linen Estate Sale!
DESCRIPTION:Marilyn's White Linen Estate Sale! White Linen Estate Sales 
UID:1776620266
STREET-ADDRESS:See website
POSTAL-CODE:40059
LOCALITY:Prospect
REGION:ABBREV=KY
COUNTRY:ABBREV=US;ABBREV=USA:United States
URL;TYPE=Event Listing:https://estatesales.org/estate-sales/ky/prospect/40059/marilyns-white-linen-estate-sale-2385601
PRIORITY:1
CLASS:PUBLIC
SEQUENCE:0
STATUS:CONFIRMED
TRANSP:OPAQUE
END:VEVENT
END:VCALENDAR
