BEGIN:VCALENDAR
VERSION:2.0
METHOD:PUBLISH
BEGIN:VEVENT
DTSTART:20250620T140000Z
DTEND:20250620T190000Z
LOCATION:Alvin, TX 77511
TRANSP: OPAQUE
SEQUENCE:0
UID:
DTSTAMP:20260425T100235Z
SUMMARY:Alvin Flash Sale! Friday, 6/20 9AM-2PM!
DESCRIPTION:Alvin Flash Sale! Friday, 6/20 9AM-2PM! Caring Transitions of Friendswood 
UID:1777132955
STREET-ADDRESS:See website
POSTAL-CODE:77511
LOCALITY:Alvin
REGION:ABBREV=TX
COUNTRY:ABBREV=US;ABBREV=USA:United States
URL;TYPE=Event Listing:https://estatesales.org/estate-sales/tx/alvin/77511/alvin-flash-sale-friday-620-2385643
PRIORITY:1
CLASS:PUBLIC
SEQUENCE:0
STATUS:CONFIRMED
TRANSP:OPAQUE
END:VEVENT
END:VCALENDAR
