BEGIN:VCALENDAR
VERSION:2.0
METHOD:PUBLISH
BEGIN:VEVENT
DTSTART:20250620T120000Z
DTEND:20250621T190000Z
LOCATION:Granby, CT 06035
TRANSP: OPAQUE
SEQUENCE:0
UID:
DTSTAMP:20260425T152509Z
SUMMARY:Granby Estate Sale
DESCRIPTION:Granby Estate Sale Sean Mahoney Estate Sales LLC 
UID:1777152309
STREET-ADDRESS:See website
POSTAL-CODE:06035
LOCALITY:Granby
REGION:ABBREV=CT
COUNTRY:ABBREV=US;ABBREV=USA:United States
URL;TYPE=Event Listing:https://estatesales.org/estate-sales/ct/granby/06035/granby-estate-sale-2385337
PRIORITY:1
CLASS:PUBLIC
SEQUENCE:0
STATUS:CONFIRMED
TRANSP:OPAQUE
END:VEVENT
END:VCALENDAR
