BEGIN:VCALENDAR
VERSION:2.0
METHOD:PUBLISH
BEGIN:VEVENT
DTSTART:20240620T130000Z
DTEND:20240623T180000Z
LOCATION:Geneva, FL 32732
TRANSP: OPAQUE
SEQUENCE:0
UID:
DTSTAMP:20260423T132548Z
SUMMARY:50% OFF Sunday, EMERALD in Geneva
DESCRIPTION:50% OFF Sunday, EMERALD in Geneva Estate Sales by Emerald 
UID:1776972348
STREET-ADDRESS:See website
POSTAL-CODE:32732
LOCALITY:Geneva
REGION:ABBREV=FL
COUNTRY:ABBREV=US;ABBREV=USA:United States
URL;TYPE=Event Listing:https://estatesales.org/estate-sales/fl/geneva/32732/50-off-sunday-emerald-in-2315487
PRIORITY:1
CLASS:PUBLIC
SEQUENCE:0
STATUS:CONFIRMED
TRANSP:OPAQUE
END:VEVENT
END:VCALENDAR
