BEGIN:VCALENDAR
VERSION:2.0
METHOD:PUBLISH
BEGIN:VEVENT
DTSTART:20140620T190000Z
DTEND:20140622T180000Z
LOCATION:Westhampton Beach, NY 11978
TRANSP: OPAQUE
SEQUENCE:0
UID:
DTSTAMP:20260423T224646Z
SUMMARY:CONTEMPORARY BEACH HOUSE
DESCRIPTION:CONTEMPORARY BEACH HOUSE re.luxeHamptons 
UID:1777006006
STREET-ADDRESS:See website
POSTAL-CODE:11978
LOCALITY:Westhampton Beach
REGION:ABBREV=NY
COUNTRY:ABBREV=US;ABBREV=USA:United States
URL;TYPE=Event Listing:https://estatesales.org/estate-sales/ny/westhampton-beach/11978/contemporary-beach-house-403227
PRIORITY:1
CLASS:PUBLIC
SEQUENCE:0
STATUS:CONFIRMED
TRANSP:OPAQUE
END:VEVENT
END:VCALENDAR
