BEGIN:VCALENDAR
VERSION:2.0
METHOD:PUBLISH
BEGIN:VEVENT
DTSTART:20250619T150000Z
DTEND:20250621T200000Z
LOCATION:Pewaukee, WI 53072
TRANSP: OPAQUE
SEQUENCE:0
UID:
DTSTAMP:20260424T062443Z
SUMMARY:Grasons of Lake Country 3 Day Sale in Pewaukee - Nearly All Items 50% Off 6/21!
DESCRIPTION:Grasons of Lake Country 3 Day Sale in Pewaukee - Nearly All Items 50% Off 6/21! Grasons of Lake Country, WI 
UID:1777033483
STREET-ADDRESS:See website
POSTAL-CODE:53072
LOCALITY:Pewaukee
REGION:ABBREV=WI
COUNTRY:ABBREV=US;ABBREV=USA:United States
URL;TYPE=Event Listing:https://estatesales.org/estate-sales/wi/pewaukee/53072/grasons-of-lake-country-3-2383368
PRIORITY:1
CLASS:PUBLIC
SEQUENCE:0
STATUS:CONFIRMED
TRANSP:OPAQUE
END:VEVENT
END:VCALENDAR
