BEGIN:VCALENDAR
VERSION:2.0
METHOD:PUBLISH
BEGIN:VEVENT
DTSTART:20150619T150000Z
DTEND:20150621T190000Z
LOCATION:Slinger, WI 53086
TRANSP: OPAQUE
SEQUENCE:0
UID:
DTSTAMP:20260420T030213Z
SUMMARY:HUGE SLINGER SALE!!!
DESCRIPTION:HUGE SLINGER SALE!!! All in the Family Estate Sales 
UID:1776675733
STREET-ADDRESS:See website
POSTAL-CODE:53086
LOCALITY:Slinger
REGION:ABBREV=WI
COUNTRY:ABBREV=US;ABBREV=USA:United States
URL;TYPE=Event Listing:https://estatesales.org/estate-sales/wi/slinger/53086/huge-slinger-sale-590117
PRIORITY:1
CLASS:PUBLIC
SEQUENCE:0
STATUS:CONFIRMED
TRANSP:OPAQUE
END:VEVENT
END:VCALENDAR
