BEGIN:VCALENDAR
VERSION:2.0
METHOD:PUBLISH
BEGIN:VEVENT
DTSTART:20260618T140000Z
DTEND:20260620T180000Z
LOCATION:Melbourne, FL 32940 (Full address will be shown on Wed, Jun 17 12:00am)
TRANSP: OPAQUE
SEQUENCE:0
UID:
DTSTAMP:20260423T134940Z
SUMMARY:By Appointment Estate Sale in IRCC-Melbourne-Estate Sale Stars
DESCRIPTION:By Appointment Estate Sale in IRCC-Melbourne-Estate Sale Stars Estate Sale Stars 
UID:1776973780
STREET-ADDRESS:See website
POSTAL-CODE:32940
LOCALITY:Melbourne
REGION:ABBREV=FL
COUNTRY:ABBREV=US;ABBREV=USA:United States
URL;TYPE=Event Listing:https://estatesales.org/estate-sales/fl/melbourne/32940/by-appointment-estate-sale-in-2436856
PRIORITY:1
CLASS:PUBLIC
SEQUENCE:0
STATUS:CONFIRMED
TRANSP:OPAQUE
END:VEVENT
END:VCALENDAR
