BEGIN:VCALENDAR
VERSION:2.0
METHOD:PUBLISH
BEGIN:VEVENT
DTSTART:20130618T160000Z
DTEND:20130618T220000Z
LOCATION:Beverly Hills, CA 90212
TRANSP: OPAQUE
SEQUENCE:0
UID:
DTSTAMP:20260420T235328Z
SUMMARY:Fine Antiques ESTATE SALE w/ Mid Century Modern! ONE DAY ONLY! Danish Furniture ADDED!
DESCRIPTION:Fine Antiques ESTATE SALE w/ Mid Century Modern! ONE DAY ONLY! Danish Furniture ADDED! Retro Robin Estate Sales, LLC 
UID:1776750808
STREET-ADDRESS:See website
POSTAL-CODE:90212
LOCALITY:Beverly Hills
REGION:ABBREV=CA
COUNTRY:ABBREV=US;ABBREV=USA:United States
URL;TYPE=Event Listing:https://estatesales.org/estate-sales/ca/beverly-hills/90212/fine-antiques-estate-sale-w-281622
PRIORITY:1
CLASS:PUBLIC
SEQUENCE:0
STATUS:CONFIRMED
TRANSP:OPAQUE
END:VEVENT
END:VCALENDAR
