BEGIN:VCALENDAR
VERSION:2.0
METHOD:PUBLISH
BEGIN:VEVENT
DTSTART:20100618T150000Z
DTEND:20100619T220000Z
LOCATION:Walnut, CA 91789
TRANSP: OPAQUE
SEQUENCE:0
UID:
DTSTAMP:20260422T211659Z
SUMMARY:Estate Sale Friday and Saturday June 18 & 19
DESCRIPTION:Estate Sale Friday and Saturday June 18 & 19 Harper Appraisals & Estate Sale Services 
UID:1776914219
STREET-ADDRESS:See website
POSTAL-CODE:91789
LOCALITY:Walnut
REGION:ABBREV=CA
COUNTRY:ABBREV=US;ABBREV=USA:United States
URL;TYPE=Event Listing:https://estatesales.org/estate-sales/ca/walnut/91789/estate-sale-friday-and-saturday-49859
PRIORITY:1
CLASS:PUBLIC
SEQUENCE:0
STATUS:CONFIRMED
TRANSP:OPAQUE
END:VEVENT
END:VCALENDAR
