BEGIN:VCALENDAR
VERSION:2.0
METHOD:PUBLISH
BEGIN:VEVENT
DTSTART:20230617T160000Z
DTEND:20230618T203000Z
LOCATION:Glendale, CA 91207
TRANSP: OPAQUE
SEQUENCE:0
UID:
DTSTAMP:20260419T230641Z
SUMMARY:Everything to go Sunday. 50% off or More! Collectibles, Uniques, and Antiques to New.
DESCRIPTION:Everything to go Sunday. 50% off or More! Collectibles, Uniques, and Antiques to New. Triumphant Estate Sales of Los Angeles 
UID:1776661601
STREET-ADDRESS:See website
POSTAL-CODE:91207
LOCALITY:Glendale
REGION:ABBREV=CA
COUNTRY:ABBREV=US;ABBREV=USA:United States
URL;TYPE=Event Listing:https://estatesales.org/estate-sales/ca/glendale/91207/everything-to-go-sunday-50-2194647
PRIORITY:1
CLASS:PUBLIC
SEQUENCE:0
STATUS:CONFIRMED
TRANSP:OPAQUE
END:VEVENT
END:VCALENDAR
