BEGIN:VCALENDAR
VERSION:2.0
METHOD:PUBLISH
BEGIN:VEVENT
DTSTART:20230617T150000Z
DTEND:20230617T210000Z
LOCATION:Bethany, OK 73008
TRANSP: OPAQUE
SEQUENCE:0
UID:
DTSTAMP:20260425T194540Z
SUMMARY:Saturday Only!  Liquidation Sale in Bethany!  Reduced Prices Starting at 50% Off!
DESCRIPTION:Saturday Only!  Liquidation Sale in Bethany!  Reduced Prices Starting at 50% Off! Precious Possessions Estate Sales 
UID:1777167940
STREET-ADDRESS:See website
POSTAL-CODE:73008
LOCALITY:Bethany
REGION:ABBREV=OK
COUNTRY:ABBREV=US;ABBREV=USA:United States
URL;TYPE=Event Listing:https://estatesales.org/estate-sales/ok/bethany-/73008/saturday-only-liquidation-sale-in-2196321
PRIORITY:1
CLASS:PUBLIC
SEQUENCE:0
STATUS:CONFIRMED
TRANSP:OPAQUE
END:VEVENT
END:VCALENDAR
