BEGIN:VCALENDAR
VERSION:2.0
METHOD:PUBLISH
BEGIN:VEVENT
DTSTART:20220617T170000Z
DTEND:20220619T230000Z
LOCATION:Walnut Creek, CA 94595
TRANSP: OPAQUE
SEQUENCE:0
UID:
DTSTAMP:20260421T012542Z
SUMMARY:ANNUAL ANTIQUE AND VINTAGE SALE
DESCRIPTION:ANNUAL ANTIQUE AND VINTAGE SALE Quail Country Antiques 
UID:1776756342
STREET-ADDRESS:See website
POSTAL-CODE:94595
LOCALITY:Walnut Creek
REGION:ABBREV=CA
COUNTRY:ABBREV=US;ABBREV=USA:United States
URL;TYPE=Event Listing:https://estatesales.org/estate-sales/ca/walnut-creek/94595/annual-antique-and-vintage-sale-2052855
PRIORITY:1
CLASS:PUBLIC
SEQUENCE:0
STATUS:CONFIRMED
TRANSP:OPAQUE
END:VEVENT
END:VCALENDAR
