BEGIN:VCALENDAR
VERSION:2.0
METHOD:PUBLISH
BEGIN:VEVENT
DTSTART:20170617T153000Z
DTEND:20170617T213000Z
LOCATION:Seattle, WA 98178
TRANSP: OPAQUE
SEQUENCE:0
UID:
DTSTAMP:20260421T112015Z
SUMMARY:Massive Tool Sale - Father's Day Gifts Galore!
DESCRIPTION:Massive Tool Sale - Father's Day Gifts Galore! Caring Transitions of Issaquah/Bellevue 
UID:1776792015
STREET-ADDRESS:See website
POSTAL-CODE:98178
LOCALITY:Seattle
REGION:ABBREV=WA
COUNTRY:ABBREV=US;ABBREV=USA:United States
URL;TYPE=Event Listing:https://estatesales.org/estate-sales/wa/seattle/98178/massive-tool-sale-fathers-day-1250721
PRIORITY:1
CLASS:PUBLIC
SEQUENCE:0
STATUS:CONFIRMED
TRANSP:OPAQUE
END:VEVENT
END:VCALENDAR
