BEGIN:VCALENDAR
VERSION:2.0
METHOD:PUBLISH
BEGIN:VEVENT
DTSTART:20160617T150000Z
DTEND:20160619T190000Z
LOCATION:Kenosha, WI 53144
TRANSP: OPAQUE
SEQUENCE:0
UID:
DTSTAMP:20260420T030215Z
SUMMARY:Crafty Kenosha Estate Sale
DESCRIPTION:Crafty Kenosha Estate Sale All in the Family Estate Sales 
UID:1776675735
STREET-ADDRESS:See website
POSTAL-CODE:53144
LOCALITY:Kenosha
REGION:ABBREV=WI
COUNTRY:ABBREV=US;ABBREV=USA:United States
URL;TYPE=Event Listing:https://estatesales.org/estate-sales/wi/kenosha/53144/crafty-kenosha-estate-sale-885089
PRIORITY:1
CLASS:PUBLIC
SEQUENCE:0
STATUS:CONFIRMED
TRANSP:OPAQUE
END:VEVENT
END:VCALENDAR
