BEGIN:VCALENDAR
VERSION:2.0
METHOD:PUBLISH
BEGIN:VEVENT
DTSTART:20160617T140000Z
DTEND:20160618T200000Z
LOCATION:New Port Richey, FL 34655
TRANSP: OPAQUE
SEQUENCE:0
UID:
DTSTAMP:20260419T113716Z
SUMMARY:50% Saturday Discount:  Feather Your Nest With Unique Finds
DESCRIPTION:50% Saturday Discount:  Feather Your Nest With Unique Finds Assisted Carefree Moves & Estate Services 
UID:1776620236
STREET-ADDRESS:See website
POSTAL-CODE:34655
LOCALITY:New Port Richey
REGION:ABBREV=FL
COUNTRY:ABBREV=US;ABBREV=USA:United States
URL;TYPE=Event Listing:https://estatesales.org/estate-sales/fl/new-port-richey/34655/50-saturday-discount-feather-your-884731
PRIORITY:1
CLASS:PUBLIC
SEQUENCE:0
STATUS:CONFIRMED
TRANSP:OPAQUE
END:VEVENT
END:VCALENDAR
