BEGIN:VCALENDAR
VERSION:2.0
METHOD:PUBLISH
BEGIN:VEVENT
DTSTART:20230616T140000Z
DTEND:20230617T190000Z
LOCATION:Washington, DC 20019
TRANSP: OPAQUE
SEQUENCE:0
UID:
DTSTAMP:20260419T140619Z
SUMMARY:Southern Charm in Washington DC Estate Sale
DESCRIPTION:Southern Charm in Washington DC Estate Sale Caring Transitions of Greater Washington, DC 
UID:1776629179
STREET-ADDRESS:See website
POSTAL-CODE:20019
LOCALITY:Washington
REGION:ABBREV=DC
COUNTRY:ABBREV=US;ABBREV=USA:United States
URL;TYPE=Event Listing:https://estatesales.org/estate-sales/dc/washington/20019/southern-charm-in-washington-dc-2175657
PRIORITY:1
CLASS:PUBLIC
SEQUENCE:0
STATUS:CONFIRMED
TRANSP:OPAQUE
END:VEVENT
END:VCALENDAR
