BEGIN:VCALENDAR
VERSION:2.0
METHOD:PUBLISH
BEGIN:VEVENT
DTSTART:20220616T150000Z
DTEND:20220618T200000Z
LOCATION:Yorba Linda, CA 92887
TRANSP: OPAQUE
SEQUENCE:0
UID:
DTSTAMP:20260424T095515Z
SUMMARY:FINAL SALE DAY - 50% OFF EVERYTHING ON SATURDAY  --   BEAUTIFUL YORBA LINDA ESTATE SALE
DESCRIPTION:FINAL SALE DAY - 50% OFF EVERYTHING ON SATURDAY  --   BEAUTIFUL YORBA LINDA ESTATE SALE Aversa Estate Sales & Appraisals 
UID:1777046115
STREET-ADDRESS:See website
POSTAL-CODE:92887
LOCALITY:Yorba Linda
REGION:ABBREV=CA
COUNTRY:ABBREV=US;ABBREV=USA:United States
URL;TYPE=Event Listing:https://estatesales.org/estate-sales/ca/yorba-linda/92887/final-sale-day-50-off-2047661
PRIORITY:1
CLASS:PUBLIC
SEQUENCE:0
STATUS:CONFIRMED
TRANSP:OPAQUE
END:VEVENT
END:VCALENDAR
