BEGIN:VCALENDAR
VERSION:2.0
METHOD:PUBLISH
BEGIN:VEVENT
DTSTART:20170616T160000Z
DTEND:20170617T220000Z
LOCATION:Sonoma, CA 95476
TRANSP: OPAQUE
SEQUENCE:0
UID:
DTSTAMP:20260421T124127Z
SUMMARY:Sonoma FAMILY Estate/Moving MASSIVE SALE!!!
DESCRIPTION:Sonoma FAMILY Estate/Moving MASSIVE SALE!!! The Mystic & The Monk 
UID:1776796887
STREET-ADDRESS:See website
POSTAL-CODE:95476
LOCALITY:Sonoma
REGION:ABBREV=CA
COUNTRY:ABBREV=US;ABBREV=USA:United States
URL;TYPE=Event Listing:https://estatesales.org/estate-sales/ca/sonoma/95476/sonoma-family-estatemoving-massive-sale-1255993
PRIORITY:1
CLASS:PUBLIC
SEQUENCE:0
STATUS:CONFIRMED
TRANSP:OPAQUE
END:VEVENT
END:VCALENDAR
