BEGIN:VCALENDAR
VERSION:2.0
METHOD:PUBLISH
BEGIN:VEVENT
DTSTART:20170616T110000Z
DTEND:20170617T170000Z
LOCATION:Buford, GA 30519
TRANSP: OPAQUE
SEQUENCE:0
UID:
DTSTAMP:20260425T102708Z
SUMMARY:SILVER COIN LIQUIDATION
DESCRIPTION:SILVER COIN LIQUIDATION Transitioning America 
UID:1777134428
STREET-ADDRESS:See website
POSTAL-CODE:30519
LOCALITY:Buford
REGION:ABBREV=GA
COUNTRY:ABBREV=US;ABBREV=USA:United States
URL;TYPE=Event Listing:https://estatesales.org/estate-sales/ga/buford/30519/silver-coin-liquidation-1259027
PRIORITY:1
CLASS:PUBLIC
SEQUENCE:0
STATUS:CONFIRMED
TRANSP:OPAQUE
END:VEVENT
END:VCALENDAR
