BEGIN:VCALENDAR
VERSION:2.0
METHOD:PUBLISH
BEGIN:VEVENT
DTSTART:20160616T220000Z
DTEND:20160618T220000Z
LOCATION:Wichita, KS 67206
TRANSP: OPAQUE
SEQUENCE:0
UID:
DTSTAMP:20260423T101525Z
SUMMARY:Stubbs Estates beautiful Vickridge / Wichita sale starting at 4 PM 6/16
DESCRIPTION:Stubbs Estates beautiful Vickridge / Wichita sale starting at 4 PM 6/16 Stubbs Estates 
UID:1776960925
STREET-ADDRESS:See website
POSTAL-CODE:67206
LOCALITY:Wichita
REGION:ABBREV=KS
COUNTRY:ABBREV=US;ABBREV=USA:United States
URL;TYPE=Event Listing:https://estatesales.org/estate-sales/ks/wichita/67206/stubbs-estates-beautiful-vickridge-wichita-883705
PRIORITY:1
CLASS:PUBLIC
SEQUENCE:0
STATUS:CONFIRMED
TRANSP:OPAQUE
END:VEVENT
END:VCALENDAR
