BEGIN:VCALENDAR
VERSION:2.0
METHOD:PUBLISH
BEGIN:VEVENT
DTSTART:20250615T200000Z
DTEND:20250616T035900Z
LOCATION:Independence, MO 64056
TRANSP: OPAQUE
SEQUENCE:0
UID:
DTSTAMP:20260423T150611Z
SUMMARY:BB Auctions and Reality LIVE AUCTION
DESCRIPTION:BB Auctions and Reality LIVE AUCTION BB Realty and Auctions 
UID:1776978371
STREET-ADDRESS:See website
POSTAL-CODE:64056
LOCALITY:Independence
REGION:ABBREV=MO
COUNTRY:ABBREV=US;ABBREV=USA:United States
URL;TYPE=Event Listing:https://estatesales.org/estate-sales/mo/independence/64056/bb-auctions-and-reality-live-2382483
PRIORITY:1
CLASS:PUBLIC
SEQUENCE:0
STATUS:CONFIRMED
TRANSP:OPAQUE
END:VEVENT
END:VCALENDAR
