BEGIN:VCALENDAR
VERSION:2.0
METHOD:PUBLISH
BEGIN:VEVENT
DTSTART:20240615T140000Z
DTEND:20240616T200000Z
LOCATION:Covington, GA 30016
TRANSP: OPAQUE
SEQUENCE:0
UID:
DTSTAMP:20260421T052801Z
SUMMARY:75% off Sunday Paradise Estate Sales presents Mid Century Maze in Covington
DESCRIPTION:75% off Sunday Paradise Estate Sales presents Mid Century Maze in Covington Paradise estate sales 
UID:1776770881
STREET-ADDRESS:See website
POSTAL-CODE:30016
LOCALITY:Covington
REGION:ABBREV=GA
COUNTRY:ABBREV=US;ABBREV=USA:United States
URL;TYPE=Event Listing:https://estatesales.org/estate-sales/ga/covington/30016/75-off-sunday-paradise-estate-2321135
PRIORITY:1
CLASS:PUBLIC
SEQUENCE:0
STATUS:CONFIRMED
TRANSP:OPAQUE
END:VEVENT
END:VCALENDAR
