BEGIN:VCALENDAR
VERSION:2.0
METHOD:PUBLISH
BEGIN:VEVENT
DTSTART:20230615T160000Z
DTEND:20230617T213000Z
LOCATION:Draper, UT 84020
TRANSP: OPAQUE
SEQUENCE:0
UID:
DTSTAMP:20260422T025842Z
SUMMARY:DRAPER ESTATE SALE
DESCRIPTION:DRAPER ESTATE SALE Life Treasures Estate Sales 
UID:1776848322
STREET-ADDRESS:See website
POSTAL-CODE:84020
LOCALITY:Draper
REGION:ABBREV=UT
COUNTRY:ABBREV=US;ABBREV=USA:United States
URL;TYPE=Event Listing:https://estatesales.org/estate-sales/ut/draper/84020/draper-estate-sale-2196025
PRIORITY:1
CLASS:PUBLIC
SEQUENCE:0
STATUS:CONFIRMED
TRANSP:OPAQUE
END:VEVENT
END:VCALENDAR
