BEGIN:VCALENDAR
VERSION:2.0
METHOD:PUBLISH
BEGIN:VEVENT
DTSTART:20230615T232700Z
DTEND:20230624T190000Z
LOCATION:Roseville, CA 95678
TRANSP: OPAQUE
SEQUENCE:0
UID:
DTSTAMP:20260420T005400Z
SUMMARY:Live & Online Auction of Tools Household Items & Industrial Equipment
DESCRIPTION:Live & Online Auction of Tools Household Items & Industrial Equipment Turbo Auctions, Inc 
UID:1776668040
STREET-ADDRESS:See website
POSTAL-CODE:95678
LOCALITY:Roseville
REGION:ABBREV=CA
COUNTRY:ABBREV=US;ABBREV=USA:United States
URL;TYPE=Event Listing:https://estatesales.org/estate-sales/ca/roseville/95678/live-online-auction-of-tools-2196331
PRIORITY:1
CLASS:PUBLIC
SEQUENCE:0
STATUS:CONFIRMED
TRANSP:OPAQUE
END:VEVENT
END:VCALENDAR
