BEGIN:VCALENDAR
VERSION:2.0
METHOD:PUBLISH
BEGIN:VEVENT
DTSTART:20190615T130000Z
DTEND:20190616T180000Z
LOCATION:Spring Valley, NY 10977
TRANSP: OPAQUE
SEQUENCE:0
UID:
DTSTAMP:20260424T071814Z
SUMMARY:Entire Home Estate Sale in Wesley Hills, NY
DESCRIPTION:Entire Home Estate Sale in Wesley Hills, NY Stephanie's Storage Sale 
UID:1777036694
STREET-ADDRESS:See website
POSTAL-CODE:10977
LOCALITY:Spring Valley
REGION:ABBREV=NY
COUNTRY:ABBREV=US;ABBREV=USA:United States
URL;TYPE=Event Listing:https://estatesales.org/estate-sales/ny/spring-valley/10977/entire-home-estate-sale-in-1676421
PRIORITY:1
CLASS:PUBLIC
SEQUENCE:0
STATUS:CONFIRMED
TRANSP:OPAQUE
END:VEVENT
END:VCALENDAR
