BEGIN:VCALENDAR
VERSION:2.0
METHOD:PUBLISH
BEGIN:VEVENT
DTSTART:20180615T150000Z
DTEND:20180617T210000Z
LOCATION:Seabrook, TX 77586
TRANSP: OPAQUE
SEQUENCE:0
UID:
DTSTAMP:20260421T040141Z
SUMMARY:Seabrook FINAL DAY - 75% OFF - EVERYTHING MUST GO! 1534 Pebble Banks Ln Seabrook, TX 77586 DOORS OPEN AT 10:00
DESCRIPTION:Seabrook FINAL DAY - 75% OFF - EVERYTHING MUST GO! 1534 Pebble Banks Ln Seabrook, TX 77586 DOORS OPEN AT 10:00 AEP Estate Liquidation 
UID:1776765701
STREET-ADDRESS:See website
POSTAL-CODE:77586
LOCALITY:Seabrook
REGION:ABBREV=TX
COUNTRY:ABBREV=US;ABBREV=USA:United States
URL;TYPE=Event Listing:https://estatesales.org/estate-sales/tx/seabrook/77586/seabrook-final-day-75-off-1529487
PRIORITY:1
CLASS:PUBLIC
SEQUENCE:0
STATUS:CONFIRMED
TRANSP:OPAQUE
END:VEVENT
END:VCALENDAR
