BEGIN:VCALENDAR
VERSION:2.0
METHOD:PUBLISH
BEGIN:VEVENT
DTSTART:20180615T133000Z
DTEND:20180616T193000Z
LOCATION:Clifton, NJ 07011
TRANSP: OPAQUE
SEQUENCE:0
UID:
DTSTAMP:20260421T111223Z
SUMMARY:FAMILY EMERGENCY DATE CHANGED Part two!! Epic sale in Paterson!
DESCRIPTION:FAMILY EMERGENCY DATE CHANGED Part two!! Epic sale in Paterson! Treasures of Yesterday Estate Sales 
UID:1776791543
STREET-ADDRESS:See website
POSTAL-CODE:07011
LOCALITY:Clifton
REGION:ABBREV=NJ
COUNTRY:ABBREV=US;ABBREV=USA:United States
URL;TYPE=Event Listing:https://estatesales.org/estate-sales/nj/clifton/07011/family-emergency-date-changed-part-1521891
PRIORITY:1
CLASS:PUBLIC
SEQUENCE:0
STATUS:CONFIRMED
TRANSP:OPAQUE
END:VEVENT
END:VCALENDAR
