BEGIN:VCALENDAR
VERSION:2.0
METHOD:PUBLISH
BEGIN:VEVENT
DTSTART:20180615T150000Z
DTEND:20180617T220000Z
LOCATION:Fruita, CO 81521
TRANSP: OPAQUE
SEQUENCE:0
UID:
DTSTAMP:20260419T152347Z
SUMMARY:Estate of Sandra Hyde
DESCRIPTION:Estate of Sandra Hyde Estate Treasures by Grand Junction Estate Sales 
UID:1776633827
STREET-ADDRESS:See website
POSTAL-CODE:81521
LOCALITY:Fruita
REGION:ABBREV=CO
COUNTRY:ABBREV=US;ABBREV=USA:United States
URL;TYPE=Event Listing:https://estatesales.org/estate-sales/co/fruita/81521/estate-of-sandra-hyde-1529605
PRIORITY:1
CLASS:PUBLIC
SEQUENCE:0
STATUS:CONFIRMED
TRANSP:OPAQUE
END:VEVENT
END:VCALENDAR
